BEGIN:VCALENDAR
VERSION:2.0
PRODID:-//https://eruuf.org///NONSGML kigkonsult.se iCalcreator 2.10.15//
METHOD:PUBLISH
BEGIN:VEVENT
UID:20260421T192510UTC-4228EWdNkj@https://eruuf.org/
DTSTAMP:20260421T192510Z
DESCRIPTION:Durham CAN is sponsoring a community conversation about “The Po
 lice and the Community”  as a result of the tension that arose at the rece
 nt CAN Assembly between Police Chief Lopez & Pastor Mark Anthony Middleton
 .  As always with CAN\, more is better\, so please attend if you can/have 
 interest and please share widely!CAN has requested clarification from the 
 Durham City Manager regarding the DPD support for two policies that seek t
 o strengthen the written consent search policies. Both pastor Middleton an
 d Police Chief Lopez will be in the panel. Background: Durham CAN asked du
 ring its public meeting attended by 500+ people that Police Chief Jose Lop
 ez affirm his commitment to requiring written consent before searching mot
 orists\, as well as two other policy reforms the Fayetteville Police Depar
 tment has implemented to address racial profiling:▪ That the officer condu
 cting the stop and search must provide the driver of the vehicle with at l
 east one reasonable factor implicating the driver or occupants in possible
  criminal activity.▪ That traffic stops and searches based solely on the i
 ndividual’s nervousness\, prior criminal history or presence in a high-cri
 me area would no longer be permitted – these factors would no longer be su
 fficient cause for search.Read more here: http://www.newsobserver.com/news
 /local/community/durham-news/article24880960.html#storylink=cpy https://er
 uuf.org/calendar/calendar-view/event/795-durham-can-meeting-with-durham-po
 lice-chief-lopez.html
DTSTART:20150720T223000Z
DTEND:20150721T003000Z
LOCATION:Holton Career and Resource Center (401 North Driver St.\, Durham\,
  NC)
SUMMARY:Durham CAN meeting with Durham Police Chief Lopez
URL:https://eruuf.org/calendar/calendar-view/event/795-durham-can-meeting-w
 ith-durham-police-chief-lopez.html
END:VEVENT
END:VCALENDAR
