BEGIN:VCALENDAR
VERSION:2.0
PRODID:-//https://eruuf.org///NONSGML kigkonsult.se iCalcreator 2.10.15//
METHOD:PUBLISH
BEGIN:VEVENT
UID:20260421T232344UTC-0176siGDVH@https://eruuf.org/
DTSTAMP:20260421T232344Z
DESCRIPTION:For just $20 a ticket\, you\, your co-workers\, friends\, neigh
 bors\, and family have a chance at winning a mini-vacation anywhere in the
  world\; or dinner and hotel for two in your state of residence\; or dinne
 r for two in your state of residence. This year there are THREE third priz
 es!! Odds of winning are excellent – only 2500 tickets are printed. All pr
 oceeds go directly to support ERUUF. Questions? Contact raffle@eruuf.org. 
 (Click image below to enlarge).\n{modal image='images/content/giving/Enews
 _Annoucement.jpg' thumbnail-width='600' thumbnail-height='400'}{/modal} ht
 tps://eruuf.org/calendar/calendar-view/event/7956-fundraising-raffle-drawi
 ng.html
DTSTART:20191215T153000Z
DTEND:20191215T154500Z
LOCATION:Fellowship Hall   ()
SUMMARY:Fundraising Raffle Drawing
URL:https://eruuf.org/calendar/calendar-view/event/7956-fundraising-raffle-
 drawing.html
END:VEVENT
END:VCALENDAR
