BEGIN:VCALENDAR
VERSION:2.0
PRODID:-//https://eruuf.org///NONSGML kigkonsult.se iCalcreator 2.10.15//
METHOD:PUBLISH
BEGIN:VEVENT
UID:20260423T204314UTC-9217pN7xV3@https://eruuf.org/
DTSTAMP:20260423T204314Z
DESCRIPTION:Potluck will be from 6:30-7:00 pm. Please bring a vegan dish to
  share. Film starts at 7:00 pm. Climate Refugees (86 minutes) is the first
  feature film to explore in-depth the global human impact of climate chang
 e and its serious destabilizing effect on international politics. The film
  turns the distant concept of global warming into a concrete human problem
  with enormous worldwide consequences. https://eruuf.org/calendar/calendar
 -view/event/7958-earth-justice-monthly-potluck-and-film.html
DTSTART:20191028T223000Z
DTEND:20191029T003000Z
LOCATION:Fellowship Hall   ()
SUMMARY:Earth Justice Monthly Potluck and Film 
URL:https://eruuf.org/calendar/calendar-view/event/7958-earth-justice-month
 ly-potluck-and-film.html
END:VEVENT
END:VCALENDAR
