BEGIN:VCALENDAR
VERSION:2.0
PRODID:-//https://eruuf.org///NONSGML kigkonsult.se iCalcreator 2.10.15//
METHOD:PUBLISH
BEGIN:VEVENT
UID:20260425T162047UTC-9704fmUJmO@https://eruuf.org/
DTSTAMP:20260425T162047Z
DESCRIPTION: January 8\, 15\, 22\, 29\, 2020 When They See Us. (parts 1-4) 
 -  In 1989\, a jogger was assaulted and raped in New York's Central Park\,
  and five young teens were subsequently charged with the crime.  The quint
 et labeled the Central Park Five\, maintained its innocence and spent year
 s fighting the convictions\, hoping to be exonerated .  This series spans 
 a quarter of a century. This is a Netflix four part series.  The series wi
 ll be shown over a four week period of time.\nRegister https://eruuf.org/c
 alendar/calendar-view/event/7962-multicultural-team-mct-film-series.html
DTSTART:20200129T233000Z
DTEND:20200130T020000Z
LOCATION:Commons Room   (4907 Garrett Rd\, Durham\, NC 27707  )
SUMMARY:Multicultural Team (MCT) Film Series 
URL:https://eruuf.org/calendar/calendar-view/event/7962-multicultural-team-
 mct-film-series.html
END:VEVENT
END:VCALENDAR
