BEGIN:VCALENDAR
VERSION:2.0
PRODID:-//https://eruuf.org///NONSGML kigkonsult.se iCalcreator 2.10.15//
METHOD:PUBLISH
BEGIN:VEVENT
UID:20260423T192354UTC-2452U2Rpl0@https://eruuf.org/
DTSTAMP:20260423T192354Z
DESCRIPTION:The Alliance of AIDS Services Carolina will provide free\, conf
 idential HIV/STI testing and between the hours of 10 am and 1 pm and then 
 again between 3 pm-7 pm. Additionally\, the Alliance will distribute safer
  sex information\, condoms\, lube and dental dams.\nFor more information c
 ontact Diane Blount\, Cantu99797@aol.com. https://eruuf.org/calendar/calen
 dar-view/event/7964-hiv-sti-testing-the-alliance-of-aids-services-carolina
 .html
DTSTART:20191202T150000Z
DTEND:20191202T180000Z
LOCATION:Music Room-ERUUF ()
SUMMARY:HIV/STI Testing: The Alliance of AIDS Services Carolina
URL:https://eruuf.org/calendar/calendar-view/event/7964-hiv-sti-testing-the
 -alliance-of-aids-services-carolina.html
END:VEVENT
END:VCALENDAR
