BEGIN:VCALENDAR
VERSION:2.0
PRODID:-//https://eruuf.org///NONSGML kigkonsult.se iCalcreator 2.10.15//
METHOD:PUBLISH
BEGIN:VEVENT
UID:20260425T235413UTC-8818P71CxR@https://eruuf.org/
DTSTAMP:20260425T235413Z
DESCRIPTION:Join us at First Chronicles Community Church\, 1306 Lincoln St.
 \, Durham\, NC\nCandidates for mayor and city council will be asked to pub
 licly commit to Durham CAN's agenda for affordable housing\, jobs\, and ju
 stice system reforms. Contact\, durhamcanactionteam@eruuf.org. Please regi
 ster below.  https://eruuf.org/calendar/calendar-view/event/7966-durham-ca
 n-action-on-candidates-for-mayor-and-city-council.html
DTSTART:20191024T223031Z
DTEND:20191024T233000Z
LOCATION:First Chronicles Community Church (1306 Lincoln St. )
SUMMARY:Durham CAN Action on Candidates for Mayor and City Council 
URL:https://eruuf.org/calendar/calendar-view/event/7966-durham-can-action-o
 n-candidates-for-mayor-and-city-council.html
END:VEVENT
END:VCALENDAR
