BEGIN:VCALENDAR
VERSION:2.0
PRODID:-//https://eruuf.org///NONSGML kigkonsult.se iCalcreator 2.10.15//
METHOD:PUBLISH
BEGIN:VEVENT
UID:20260421T005119UTC-244666Bs9e@https://eruuf.org/
DTSTAMP:20260421T005119Z
DESCRIPTION:Our long-awaited CD of UU Sing-a-Long songs for use in RE class
 es\, camping trips and any other informal group event\, has arrived and is
  ready for Prime Time! Join us for our CD release party in the Fellowship 
 Hall after both services on November 17. We will listen and sing along\, t
 hank the Foundation and the UUA\, toast our accomplishments and eat cake!
 \n \nLearn more  https://eruuf.org/calendar/calendar-view/event/7969-music
 -program-re-cd-release-party.html
DTSTART:20191117T150000Z
DTEND:20191118T170000Z
LOCATION:Fellowship Hall   ()
SUMMARY:Music Program/RE CD Release Party
URL:https://eruuf.org/calendar/calendar-view/event/7969-music-program-re-cd
 -release-party.html
END:VEVENT
END:VCALENDAR
