BEGIN:VCALENDAR
VERSION:2.0
PRODID:-//https://eruuf.org///NONSGML kigkonsult.se iCalcreator 2.10.15//
METHOD:PUBLISH
BEGIN:VEVENT
UID:20260425T145027UTC-6771iGclnk@https://eruuf.org/
DTSTAMP:20260425T145027Z
DESCRIPTION:Durham Can's Public Assembly asks top leaders from the public a
 nd private sectors -including candidates for elected office-  to react to 
 CAN's vision and action items.  All ERUUFians are invited to attend and he
 lp support democracy in action. for more information\, click here. https:/
 /eruuf.org/calendar/calendar-view/event/797-durham-can-public-assembly.htm
 l
DTSTART:20150616T223000Z
DTEND:20150617T003000Z
LOCATION:St. Philips Episcopal Church (403 E. Main St\, Durham\, NC)
SUMMARY:Durham CAN Public Assembly
URL:https://eruuf.org/calendar/calendar-view/event/797-durham-can-public-as
 sembly.html
END:VEVENT
END:VCALENDAR
