BEGIN:VCALENDAR
VERSION:2.0
PRODID:-//https://eruuf.org///NONSGML kigkonsult.se iCalcreator 2.10.15//
METHOD:PUBLISH
BEGIN:VEVENT
UID:20260425T112431UTC-7148lzkLUi@https://eruuf.org/
DTSTAMP:20260425T112431Z
DESCRIPTION:Where can you have the most fun on Thanksgiving? At the ERUUF T
 hanksgiving Luncheon!  No more getting stuck with doing the whole meal all
  by yourself.  Just bring your best turkey side dish and sign up to help a
 t the link below.\n \nRegister https://eruuf.org/calendar/calendar-view/ev
 ent/7971-thanksgiving-luncheon.html
DTSTART:20191128T180000Z
DTEND:20191128T193000Z
LOCATION:Fellowship Hall   ()
SUMMARY:Thanksgiving Luncheon 
URL:https://eruuf.org/calendar/calendar-view/event/7971-thanksgiving-lunche
 on.html
END:VEVENT
END:VCALENDAR
