BEGIN:VCALENDAR
VERSION:2.0
PRODID:-//https://eruuf.org///NONSGML kigkonsult.se iCalcreator 2.10.15//
METHOD:PUBLISH
BEGIN:VEVENT
UID:20260423T013641UTC-6375Fxfe3f@https://eruuf.org/
DTSTAMP:20260423T013641Z
DESCRIPTION:All in the ERUUF community\, plus family and friends\, are invi
 ted to participate in the annual Christmas Eve Soup Supper\, which takes p
 lace directly after the holiday pageant. Sign up to bring a crock pot of s
 oup\, or bread\, or a simple finger food dessert. There's also a need for 
 helpers to decorate\, set up\, and to lend a hand with clean-up.  For deta
 ils about how you can volunteer contact Mary LaCombe. https://eruuf.org/ca
 lendar/calendar-view/event/7972-christmas-eve-soup-supper.html
DTSTART:20191224T230000Z
DTEND:20191225T000000Z
LOCATION:Fellowship Hall   ()
SUMMARY:Christmas Eve Soup Supper 
URL:https://eruuf.org/calendar/calendar-view/event/7972-christmas-eve-soup-
 supper.html
END:VEVENT
END:VCALENDAR
