BEGIN:VCALENDAR
VERSION:2.0
PRODID:-//https://eruuf.org///NONSGML kigkonsult.se iCalcreator 2.10.15//
METHOD:PUBLISH
BEGIN:VEVENT
UID:20260424T012532UTC-2112KGbxKM@https://eruuf.org/
DTSTAMP:20260424T012532Z
DESCRIPTION:Join us for Kwanzaa Karamu\, immediately following the Kwanzaa 
 worship service. We need your help to create this wonderful event for ERUU
 F and our friends. For details about how you can volunteer\, contact Diane
  Blount. https://eruuf.org/calendar/calendar-view/event/7973-kwanzaa-karam
 u.html
DTSTART:20191229T171500Z
DTEND:20191229T183000Z
LOCATION:Fellowship Hall   ()
SUMMARY:Kwanzaa Karamu
URL:https://eruuf.org/calendar/calendar-view/event/7973-kwanzaa-karamu.html
END:VEVENT
END:VCALENDAR
