BEGIN:VCALENDAR
VERSION:2.0
PRODID:-//https://eruuf.org///NONSGML kigkonsult.se iCalcreator 2.10.15//
METHOD:PUBLISH
BEGIN:VEVENT
UID:20260420T153522UTC-5309TM9j2w@https://eruuf.org/
DTSTAMP:20260420T153522Z
DESCRIPTION:Sock Hop Dance Party to benefit Urban Ministries of Durham. htt
 ps://eruuf.org/calendar/calendar-view/event/7974-sock-hop-for-urban-minist
 ries.html
DTSTART:20191209T020000Z
DTEND:20191209T040000Z
LOCATION:Commons Room   (4907 Garrett Rd\, Durham\, NC 27707  )
SUMMARY:Sock Hop for Urban Ministries 
URL:https://eruuf.org/calendar/calendar-view/event/7974-sock-hop-for-urban-
 ministries.html
END:VEVENT
END:VCALENDAR
