BEGIN:VCALENDAR
VERSION:2.0
PRODID:-//https://eruuf.org///NONSGML kigkonsult.se iCalcreator 2.10.15//
METHOD:PUBLISH
BEGIN:VEVENT
UID:20260421T162448UTC-3582cujhc3@https://eruuf.org/
DTSTAMP:20260421T162448Z
DESCRIPTION:Triangle Friends of Farmworkers supports FLOC action at the ann
 ual RJ Reynolds Stockholder Meeting.  For more info\, click here. https://
 eruuf.org/calendar/calendar-view/event/798-floc-action-for-tobacco-farmwor
 kers-at-rj-reynolds-stockholder-meeting.html
DTSTART;VALUE=DATE:20150507
LOCATION:Reynolds American Plaza Building (401 N. Main Street\, Winston-Sal
 em\, NC)
SUMMARY:FLOC action for Tobacco Farmworkers at RJ Reynolds Stockholder Meet
 ing
URL:https://eruuf.org/calendar/calendar-view/event/798-floc-action-for-toba
 cco-farmworkers-at-rj-reynolds-stockholder-meeting.html
END:VEVENT
END:VCALENDAR
