BEGIN:VCALENDAR
VERSION:2.0
PRODID:-//https://eruuf.org///NONSGML kigkonsult.se iCalcreator 2.10.15//
METHOD:PUBLISH
BEGIN:VEVENT
UID:20260424T135603UTC-6220b6zChE@https://eruuf.org/
DTSTAMP:20260424T135603Z
DESCRIPTION:Permaculture - What is It? Maybe you’ve heard the term\, but ar
 e not quite sure and want to know more. You’re invited to the premier of t
 he film “Inhabit: A Permaculture Perspective\,” Earth Day\, Wednesday\, Ap
 ril 22\, 7-9 pm\, Commons Room. Derek Markham calls it a beautiful and int
 imate film about solutions to pressing social\, environmental\, and econom
 ic challenges by people using the principles and practices of nature in bo
 th rural and urban settings. Contact Tom Fletcher  https://eruuf.org/calen
 dar/calendar-view/event/799-earth-justice-movie-inhabit-a-permaculture-per
 spective.html
DTSTART:20150422T230000Z
DTEND:20150423T010000Z
LOCATION:Room 4/5   (4907 Garrett Rd\, Durham\, NC 27707   )
SUMMARY:Earth Justice movie ' Inhabit: A Permaculture Perspective'
URL:https://eruuf.org/calendar/calendar-view/event/799-earth-justice-movie-
 inhabit-a-permaculture-perspective.html
END:VEVENT
END:VCALENDAR
