BEGIN:VCALENDAR
VERSION:2.0
PRODID:-//https://eruuf.org///NONSGML kigkonsult.se iCalcreator 2.10.15//
METHOD:PUBLISH
BEGIN:VEVENT
UID:20260425T235711UTC-6022bmkfOz@https://eruuf.org/
DTSTAMP:20260425T235711Z
DESCRIPTION:\nJazz for the Holidays\, reception immediately following servi
 ce.\n- - - \nWe are excited to continue our collaboration with members of 
 the North Carolina Central University (NCCU) Jazz Studies Program in creat
 ing a series of five Jazz Vespers worship services during 2019 - 20. We're
  equally excited to be forming a new relationship with the Hayti Heritage 
 Center\, where the 2020 Jazz Vespers series will take place. Jazz vespers 
 is free and open to the public. For information\, contact Rev. Jacqueline 
 Brett\, jbrett@eruuf.org. \n \nThis program has been made possible with a 
 grant from the Eno River Fellowship Foundation.  https://eruuf.org/calenda
 r/calendar-view/event/7999-jazz-vespers-worship-service-jazz-for-the-holid
 ays.html
DTSTART:20191219T000000Z
DTEND:20191219T013000Z
LOCATION:Sanctuary - ERUUF   (4907 Garrett Road\, Durham\, NC 27707  )
SUMMARY:Jazz Vespers Worship Service: Jazz for the Holidays
URL:https://eruuf.org/calendar/calendar-view/event/7999-jazz-vespers-worshi
 p-service-jazz-for-the-holidays.html
END:VEVENT
END:VCALENDAR
