BEGIN:VCALENDAR
VERSION:2.0
PRODID:-//https://eruuf.org///NONSGML kigkonsult.se iCalcreator 2.10.15//
METHOD:PUBLISH
BEGIN:VEVENT
UID:20260425T132516UTC-9603MpjVT7@https://eruuf.org/
DTSTAMP:20260425T132516Z
DESCRIPTION:Annual fundraising event for Sister Communities of San Ramon to
  help schools in San Ramon.  For more information: www.san-ramon.org https
 ://eruuf.org/calendar/calendar-view/event/800-san-ramon-celebration-for-ch
 ildren.html
DTSTART:20150419T200000Z
DTEND:20150419T220000Z
LOCATION:Fellowship Hall   ()
SUMMARY:San Ramon Celebration for Children
URL:https://eruuf.org/calendar/calendar-view/event/800-san-ramon-celebratio
 n-for-children.html
END:VEVENT
END:VCALENDAR
