BEGIN:VCALENDAR
VERSION:2.0
PRODID:-//https://eruuf.org///NONSGML kigkonsult.se iCalcreator 2.10.15//
METHOD:PUBLISH
BEGIN:VEVENT
UID:20260423T034218UTC-5620APCHHW@https://eruuf.org/
DTSTAMP:20260423T034218Z
DESCRIPTION:Join us for our annual Christmas Pageant! Soup Supper and Worsh
 ip Service to follow. https://eruuf.org/calendar/calendar-view/event/8003-
 christmas-pageant.html
DTSTART:20191224T220000Z
DTEND:20191224T230000Z
LOCATION:Sanctuary - ERUUF   (4907 Garrett Road\, Durham\, NC 27707  )
SUMMARY:Christmas Pageant 
URL:https://eruuf.org/calendar/calendar-view/event/8003-christmas-pageant.h
 tml
END:VEVENT
END:VCALENDAR
