BEGIN:VCALENDAR
VERSION:2.0
PRODID:-//https://eruuf.org///NONSGML kigkonsult.se iCalcreator 2.10.15//
METHOD:PUBLISH
BEGIN:VEVENT
UID:20260424T081258UTC-9398KMB8R6@https://eruuf.org/
DTSTAMP:20260424T081258Z
DESCRIPTION:\nJoin us for a Jazz Vespers Worship service in celebration of 
 Martin Luther King Jr. \n\n- - - \n \n\nWe are excited to continue our col
 laboration with members of the North Carolina Central University (NCCU) Ja
 zz Studies Program in creating a series of five Jazz Vespers worship servi
 ces during 2019 - 20. We're equally excited to be forming a new relationsh
 ip with the Hayti Heritage Center\, where the 2020 Jazz Vespers series wil
 l take place. Jazz vespers is free and open to the public. For information
 \, contact Rev. Jacqueline Brett\, jbrett@eruuf.org. \n \nThis program has
  been made possible with a grant from the Eno River Fellowship Foundation.
  \n https://eruuf.org/calendar/calendar-view/event/8005-prophetic-jazz-cel
 ebrating-martin-luther-king-jr.html
DTSTART:20200119T161500Z
DTEND:20200119T171500Z
LOCATION:Sanctuary - ERUUF   (4907 Garrett Road\, Durham\, NC 27707  )
SUMMARY:Prophetic Jazz: Celebrating Martin Luther King Jr. 
URL:https://eruuf.org/calendar/calendar-view/event/8005-prophetic-jazz-cele
 brating-martin-luther-king-jr.html
END:VEVENT
END:VCALENDAR
