BEGIN:VCALENDAR
VERSION:2.0
PRODID:-//https://eruuf.org///NONSGML kigkonsult.se iCalcreator 2.10.15//
METHOD:PUBLISH
BEGIN:VEVENT
UID:20260421T203841UTC-57767fpatd@https://eruuf.org/
DTSTAMP:20260421T203841Z
DESCRIPTION:New Years Day: ERUUF Office Closed https://eruuf.org/calendar/c
 alendar-view/event/8006-new-years-day-office-closed.html
DTSTART;VALUE=DATE:20200101
LOCATION:ERUUF Campus   (4907 Garrett Rd\, Durham\, NC 27707    )
SUMMARY:New Years Day: Office Closed
URL:https://eruuf.org/calendar/calendar-view/event/8006-new-years-day-offic
 e-closed.html
END:VEVENT
END:VCALENDAR
