BEGIN:VCALENDAR
VERSION:2.0
PRODID:-//https://eruuf.org///NONSGML kigkonsult.se iCalcreator 2.10.15//
METHOD:PUBLISH
BEGIN:VEVENT
UID:20260424T151042UTC-4099m2GK52@https://eruuf.org/
DTSTAMP:20260424T151042Z
DESCRIPTION: https://eruuf.org/calendar/calendar-view/event/8007-mlk-day-of
 fice-closed.html
DTSTART;VALUE=DATE:20200120
LOCATION:ERUUF Campus   (4907 Garrett Rd\, Durham\, NC 27707    )
SUMMARY:MLK Day: Office Closed
URL:https://eruuf.org/calendar/calendar-view/event/8007-mlk-day-office-clos
 ed.html
END:VEVENT
END:VCALENDAR
