BEGIN:VCALENDAR
VERSION:2.0
PRODID:-//https://eruuf.org///NONSGML kigkonsult.se iCalcreator 2.10.15//
METHOD:PUBLISH
BEGIN:VEVENT
UID:20260423T203311UTC-0589NVhf9j@https://eruuf.org/
DTSTAMP:20260423T203311Z
DESCRIPTION:Independence Day: ERUUF Office Closed. https://eruuf.org/calend
 ar/calendar-view/event/8008-independence-day-office-closed.html
DTSTART;VALUE=DATE:20200704
LOCATION:ERUUF Campus   (4907 Garrett Rd\, Durham\, NC 27707    )
SUMMARY:Independence Day: Office Closed
URL:https://eruuf.org/calendar/calendar-view/event/8008-independence-day-of
 fice-closed.html
END:VEVENT
END:VCALENDAR
