BEGIN:VCALENDAR
VERSION:2.0
PRODID:-//https://eruuf.org///NONSGML kigkonsult.se iCalcreator 2.10.15//
METHOD:PUBLISH
BEGIN:VEVENT
UID:20260424T195203UTC-1790ev9cHw@https://eruuf.org/
DTSTAMP:20260424T195203Z
DESCRIPTION:Thanksgiving Day: ERUUF Office is closed. https://eruuf.org/cal
 endar/calendar-view/event/8009-thanksgiving-day-office-closed.html
DTSTART:20191111T181658Z
DTEND:20191111T201658Z
LOCATION:ERUUF Campus   (4907 Garrett Rd\, Durham\, NC 27707    )
SUMMARY:Thanksgiving Day: Office Closed 
URL:https://eruuf.org/calendar/calendar-view/event/8009-thanksgiving-day-of
 fice-closed.html
END:VEVENT
END:VCALENDAR
