BEGIN:VCALENDAR
VERSION:2.0
PRODID:-//https://eruuf.org///NONSGML kigkonsult.se iCalcreator 2.10.15//
METHOD:PUBLISH
BEGIN:VEVENT
UID:20260424T235036UTC-3020zezWGx@https://eruuf.org/
DTSTAMP:20260424T235036Z
DESCRIPTION:Delegations from member institutions will come together to disc
 ern CAN's agenda based on results of the listening campaign. CAN Delegates
  will agree on new priorities.   YOU ARE INVITED!Come help set Durham CAN'
 s next agenda!   Each of CAN's member congregations and organizations will
  present top issues from their respective Listening Sessions and those pre
 sent at the assembly will vote on what issues CAN should take on. We want 
 a great representation from ERUUF\, so please come and bring a friend or f
 amily member.  This is also a great opportunity to see how CAN works and l
 earn more about next steps and meet other justice-minded people! We start 
 on time and finish on time. Contact Cindy Henshaw\, crhenshaw@gmail.com ht
 tps://eruuf.org/calendar/calendar-view/event/801-durham-can-discernment-as
 sembly.html
DTSTART:20150416T220000Z
DTEND:20150416T233000Z
LOCATION: Nehemiah Christian Center  (514 North Mangum Street\, Durham\, NC
  27701\, USA)
SUMMARY:Durham CAN Discernment Assembly
URL:https://eruuf.org/calendar/calendar-view/event/801-durham-can-discernme
 nt-assembly.html
END:VEVENT
END:VCALENDAR
