BEGIN:VCALENDAR
VERSION:2.0
PRODID:-//https://eruuf.org///NONSGML kigkonsult.se iCalcreator 2.10.15//
METHOD:PUBLISH
BEGIN:VEVENT
UID:20260422T114503UTC-7823CVujzU@https://eruuf.org/
DTSTAMP:20260422T114503Z
DESCRIPTION:Christmas Day: ERUUF Office is closed. https://eruuf.org/calend
 ar/calendar-view/event/8010-christmas-day-office-closed.html
DTSTART;VALUE=DATE:20191225
LOCATION:ERUUF Campus   (4907 Garrett Rd\, Durham\, NC 27707    )
SUMMARY:Christmas Day: Office Closed 
URL:https://eruuf.org/calendar/calendar-view/event/8010-christmas-day-offic
 e-closed.html
END:VEVENT
END:VCALENDAR
