BEGIN:VCALENDAR
VERSION:2.0
PRODID:-//https://eruuf.org///NONSGML kigkonsult.se iCalcreator 2.10.15//
METHOD:PUBLISH
BEGIN:VEVENT
UID:20260422T021855UTC-9020CvziK2@https://eruuf.org/
DTSTAMP:20260422T021855Z
DESCRIPTION:The ERUUF main Office will be closed the day after Christmas. h
 ttps://eruuf.org/calendar/calendar-view/event/8011-office-closed.html
DTSTART;VALUE=DATE:20191226
LOCATION:ERUUF Campus   (4907 Garrett Rd\, Durham\, NC 27707    )
SUMMARY:Office Closed
URL:https://eruuf.org/calendar/calendar-view/event/8011-office-closed.html
END:VEVENT
END:VCALENDAR
