BEGIN:VCALENDAR
VERSION:2.0
PRODID:-//https://eruuf.org///NONSGML kigkonsult.se iCalcreator 2.10.15//
METHOD:PUBLISH
BEGIN:VEVENT
UID:20260424T235456UTC-9743UaoRl2@https://eruuf.org/
DTSTAMP:20260424T235456Z
DESCRIPTION:We are excited to continue our collaboration with members of th
 e North Carolina Central University (NCCU) Jazz Studies Program in creatin
 g a series of five Jazz Vespers worship services during 2019 - 20. We're e
 qually excited to be forming a new relationship with the Hayti Heritage Ce
 nter\, where the 2020 Jazz Vespers series will take place. Jazz vespers is
  free and open to the public. For information\, contact Rev. Jacqueline Br
 ett\, jbrett@eruuf.org. \n \nThis program has been made possible with a gr
 ant from the Eno River Fellowship Foundation. \n\n  https://eruuf.org/cale
 ndar/calendar-view/event/8015-jazz-vespers-worship-service.html
DTSTART:20200530T200000Z
DTEND:20200530T213000Z
LOCATION:Historic St. Joseph's Performance Hall at Hayti Heritage Center (8
 04 Old Fayetteville St\, Durham\, NC 27701)
SUMMARY:Jazz Vespers Worship Service
URL:https://eruuf.org/calendar/calendar-view/event/8015-jazz-vespers-worshi
 p-service.html
END:VEVENT
END:VCALENDAR
