BEGIN:VCALENDAR
VERSION:2.0
PRODID:-//https://eruuf.org///NONSGML kigkonsult.se iCalcreator 2.10.15//
METHOD:PUBLISH
BEGIN:VEVENT
UID:20260421T183501UTC-3867xGAnMM@https://eruuf.org/
DTSTAMP:20260421T183501Z
DESCRIPTION:An annual gathering of agencies\, organizations\, and activists
  dedicated to improving the lives of farmworkers and their families\, spon
 sored by the Farmworker Ministry Committee of the NC Council of Churches. 
  For more information\,http://www.ncfarmworkers.org/category/events/ https
 ://eruuf.org/calendar/calendar-view/event/802-farmworker-institute.html
DTSTART:20150416T130000Z
DTEND:20150416T210000Z
LOCATION:United Church of Chapel Hill (1321 Martin Luther King Jr. Blvd\, C
 hapel Hill\, NC)
SUMMARY:Farmworker Institute
URL:https://eruuf.org/calendar/calendar-view/event/802-farmworker-institute
 .html
END:VEVENT
END:VCALENDAR
