BEGIN:VCALENDAR
VERSION:2.0
PRODID:-//https://eruuf.org///NONSGML kigkonsult.se iCalcreator 2.10.15//
METHOD:PUBLISH
BEGIN:VEVENT
UID:20260420T190735UTC-8250Ilmt3H@https://eruuf.org/
DTSTAMP:20260420T190735Z
DESCRIPTION:CROP Hunger Walk is an annual event which combines fun and fund
 raising to raise money for hungry people throughout the world. Walkers inv
 ite friends to sponsor them with a contribution of $5\, $10\, $20 or more.
  ERUUF youth participate in the walk every year.   https://eruuf.org/calen
 dar/calendar-view/event/804-crop-hunger-walk.html
DTSTART:20150322T183000Z
DTEND:20150322T203000Z
LOCATION:Duke University Chapel\, 401 Chapel Dr\, Durham\, NC 27708 (Duke U
 niversity Chapel\, 401 Chapel Drive\, Durham\, NC 27708\, USA)
SUMMARY:CROP Hunger Walk
URL:https://eruuf.org/calendar/calendar-view/event/804-crop-hunger-walk.htm
 l
END:VEVENT
END:VCALENDAR
