BEGIN:VCALENDAR
VERSION:2.0
PRODID:-//https://eruuf.org///NONSGML kigkonsult.se iCalcreator 2.10.15//
METHOD:PUBLISH
BEGIN:VEVENT
UID:20260424T111400UTC-8605kKOavc@https://eruuf.org/
DTSTAMP:20260424T111400Z
DESCRIPTION: A unique travel experience will take place in San Ramon\, Nica
 ragua. This is a trip to remember for a lifetime.  Sister Communities of S
 an Ramon\, Nicaragua\, the trip sponsor\, built the foundation for cultura
 l immersion ecotours 16 years ago to help stimulate the local economy by g
 iving people the opportunity to start small businesses that provide servic
 es to ecotour groups.The impact has been immensely positive both for visit
 ing groups as well as for micro-entrepreneurs in San Ramon. The World Tour
 ism Organization\, a UN agency\, declared this tourism project a model for
  Sustainable Tourism to End Poverty (STEP) in 2005.  The $1\,200 cost incl
 udes all in-country transportation\, wonderful home stays\, a stay at inte
 rnational award winning Finca Esperanza Verde Ecolodge and Organic Coffee 
 Farm\, and many fascinating and fun activities and performances. Learn mor
 e about the trip by contacting trip leader Lonna Harkrader.  https://eruuf
 .org/calendar/calendar-view/event/805-san-ramon-eco-tour.html
DTSTART:20150301T050000Z
DTEND:20150308T183528Z
LOCATION:Nicaragua (Nicaragua)
SUMMARY:San Ramon Eco-Tour
URL:https://eruuf.org/calendar/calendar-view/event/805-san-ramon-eco-tour.h
 tml
END:VEVENT
END:VCALENDAR
