BEGIN:VCALENDAR
VERSION:2.0
PRODID:-//https://eruuf.org///NONSGML kigkonsult.se iCalcreator 2.10.15//
METHOD:PUBLISH
BEGIN:VEVENT
UID:20260423T015458UTC-8446I5lTeo@https://eruuf.org/
DTSTAMP:20260423T015458Z
DESCRIPTION:Beloved community\, will you join us? On Sunday\, November 24\,
  we follow in a long line of Never Again immigrant justice actions across 
 the country when we rally to demand Alamance County stop collaborating wit
 h ICE. Our siblings in Siembra NC and Southerners On New Ground have been 
 fighting back for years. We build on their work. \nThis event is led by th
 ose who have a history of family detention\, deportation\, and execution\,
  but we hope that all who oppose the ICE deportation/incarceration machine
  will attend! More details to come. Please fill out this form to stay upda
 ted. https://eruuf.org/calendar/calendar-view/event/8056-never-again-actio
 n-alamance-county.html
DTSTART:20191124T180000Z
DTEND:20191124T200000Z
LOCATION:Downtown Graham\, NC (309 S. Maple St. Graham\, NC)
SUMMARY:Never Again Action: Alamance County
URL:https://eruuf.org/calendar/calendar-view/event/8056-never-again-action-
 alamance-county.html
END:VEVENT
END:VCALENDAR
