BEGIN:VCALENDAR
VERSION:2.0
PRODID:-//https://eruuf.org///NONSGML kigkonsult.se iCalcreator 2.10.15//
METHOD:PUBLISH
BEGIN:VEVENT
UID:20260424T021804UTC-2621VhuoZn@https://eruuf.org/
DTSTAMP:20260424T021804Z
DESCRIPTION: https://eruuf.org/calendar/calendar-view/event/8062-winter-sol
 stice-service.html
DTSTART:20191222T220000Z
DTEND:20191222T230000Z
LOCATION:Sanctuary - ERUUF   (4907 Garrett Road\, Durham\, NC 27707  )
SUMMARY:Winter Solstice Service
URL:https://eruuf.org/calendar/calendar-view/event/8062-winter-solstice-ser
 vice.html
END:VEVENT
END:VCALENDAR
