BEGIN:VCALENDAR
VERSION:2.0
PRODID:-//https://eruuf.org///NONSGML kigkonsult.se iCalcreator 2.10.15//
METHOD:PUBLISH
BEGIN:VEVENT
UID:20260424T100711UTC-1160aePAV4@https://eruuf.org/
DTSTAMP:20260424T100711Z
DESCRIPTION:We are going VIRTUAL for our second Sustainable Living Fair wit
 h talks by experts in various domains of sustainable living to include our
  keynote speaker\, Crystal Dreisbach\, Founder & Executive Director\, Don’
 t Waste Durham. Other topics include waste reduction\, green and healthy h
 ome and lawn\, and the clean energy transition. Please register by Thursda
 y\, 4/9/20 to assist with planning & logistics. Updates and call-in inform
 ation will be sent to all registrants by Friday\, 4/10\, 1 pm. Contact: De
 nise Frizzell.\n \nSCHEDULE OF EVENTS \nSaturday\, 4/11/20\n8:30 - 9:00: D
 AY OF EVENT SETUP (e.g.\, coffee\, tea\, light refreshments)\n9:00 - 9:30:
  REGISTRATION AND NETWORKING\n9:30 - 10:30: GREEN & HEALTHY HOME AND LAWN
 \nEdible Landscaping: Keith Shalijian\, Owner\, Bountiful Backyards\; Orga
 nic Lawn Care: Houston Hinson\, Owner\, Carolina Turf\; Sustainable Furnis
 hings: Susan Ingles\, Executive Director\, Sustainable Furnishings Council
 \n10:30 - 10:45: Break & Visit with Presenters\n10:45 - 11:45 am: Keynote:
  Crystal Dreisbach\, Founder & Executive Director\, Don’t Waste Durham. Wh
 y Preventing Trash Slows Global Climate Change: The Circular Economy and Y
 OU!\n11:45 - 12:30: Lunch Catered ($10 Donation Requested)\n12:30 - 1:30: 
 WASTE REDUCTION\nRecycling & Composting Trends and Tips: Muriel Williman\,
  Asst Solid Waste Manager\, the City of Durham\n1:30 - 1:45: Break & Visit
  with Presenters\n1:45 - 2:45: THE CLEAN ENERGY TRANSITION\nResidential So
 lar Battery Technology: Southern Energy Management\nEV Ownership and YOU!
 \n2:45 - 3:00 pm: Wrap Up and Final Visit with Presenters Session\n \n Reg
 ister https://eruuf.org/calendar/calendar-view/event/8063-virtual-sustaina
 ble-living-fair-2020.html
DTSTART:20200411T130000Z
DTEND:20200411T190000Z
LOCATION:Online (Zoom) (Scroll down to join or register.) ()
SUMMARY:VIRTUAL Sustainable Living Fair 2020
URL:https://eruuf.org/calendar/calendar-view/event/8063-virtual-sustainable
 -living-fair-2020.html
END:VEVENT
END:VCALENDAR
