BEGIN:VCALENDAR
VERSION:2.0
PRODID:-//https://eruuf.org///NONSGML kigkonsult.se iCalcreator 2.10.15//
METHOD:PUBLISH
BEGIN:VEVENT
UID:20260423T200347UTC-56691rFvTM@https://eruuf.org/
DTSTAMP:20260423T200347Z
DESCRIPTION:Durham CAN Listening Sessions are the basis for all actions tha
 t Durham CAN takes to make Durham a better place. The issues Durham CAN wo
 rks on come out of small-group gatherings called Listening Sessions\, wher
 e people share their stories about issues they’d like to see changed and h
 ave energy to work on. Durham CAN is driven by the testimony of concrete e
 xperience\, not pre-conceived ideology. Join the Conversation. https://eru
 uf.org/calendar/calendar-view/event/807-durham-can-listening-session.html
DTSTART:20150222T180000Z
DTEND:20150222T200000Z
LOCATION:Room 7 - CARE Building ()
SUMMARY:Durham CAN Listening Session
URL:https://eruuf.org/calendar/calendar-view/event/807-durham-can-listening
 -session.html
END:VEVENT
END:VCALENDAR
