BEGIN:VCALENDAR
VERSION:2.0
PRODID:-//https://eruuf.org///NONSGML kigkonsult.se iCalcreator 2.10.15//
METHOD:PUBLISH
BEGIN:VEVENT
UID:20260421T094745UTC-3781UKGk8i@https://eruuf.org/
DTSTAMP:20260421T094745Z
DESCRIPTION:The annual HKonJ march for justice will gather at Shaw Universi
 ty on Wilmington St. between South St. and MLK Jr. Blvd. at 9:00 a.m. in d
 owntown Raleigh.The march will begin at 10:00 a.m. after which we will beg
 in the mass people's assembly on the doorstep of the State Capitol.For the
  past eight years\, a fusion movement has been growing in North Carolina. 
 In 2006\, the Historic Thousands on Jones St. (HKonJ) People's Assembly Co
 alition was formed under the leadership of Rev. Dr. William J. Barber\, II
  and the North Carolina NAACP. It has grown to include over 150 coalition 
 partners. Each year this fusion movement comes together on the second Satu
 rday in February to hold a mass people's assembly to reaffirm its commitme
 nt to the 14 Point People's Agenda and to hold lawmakers accountable to th
 e people of North Carolina.PHOTOS & LINKS for 2014 March (ERUUF in action)
  https://eruuf.org/calendar/calendar-view/event/809-mass-moral-march-on-ra
 leigh.html
DTSTART:20150214T140000Z
DTEND:20150214T200000Z
LOCATION:750 S Wilmington St\, Raleigh\, NC (750 South Wilmington Street\, 
 Raleigh\, NC 27601\, USA)
SUMMARY:Mass Moral March on Raleigh
URL:https://eruuf.org/calendar/calendar-view/event/809-mass-moral-march-on-
 raleigh.html
END:VEVENT
END:VCALENDAR
