BEGIN:VCALENDAR
VERSION:2.0
PRODID:-//https://eruuf.org///NONSGML kigkonsult.se iCalcreator 2.10.15//
METHOD:PUBLISH
BEGIN:VEVENT
UID:20260421T021321UTC-8064IoU3U5@https://eruuf.org/
DTSTAMP:20260421T021321Z
DESCRIPTION:\n \nPre-K through 12th Grade will make cookies for the Urban M
 inistries dinner. Donations of premade cookie dough for cutout cookies are
  needed. Please bring in labeled cookie sheets\, rolling pins\, and cookie
  cutters for use that day if you are able.  https://eruuf.org/calendar/cal
 endar-view/event/8105-cookie-baking.html
DTSTART:20191201T153000Z
DTEND:20191201T163000Z
LOCATION:Commons Room   (4907 Garrett Rd\, Durham\, NC 27707  )
SUMMARY:Cookie Baking 
URL:https://eruuf.org/calendar/calendar-view/event/8105-cookie-baking.html
END:VEVENT
END:VCALENDAR
