BEGIN:VCALENDAR
VERSION:2.0
PRODID:-//https://eruuf.org///NONSGML kigkonsult.se iCalcreator 2.10.15//
METHOD:PUBLISH
BEGIN:VEVENT
UID:20260425T201252UTC-2839bNN2nk@https://eruuf.org/
DTSTAMP:20260425T201252Z
DESCRIPTION:Red Cross Blood Drive.  This year our goal is to get at least 2
 0 donors. Let Merritt Chesson (252) 337-5905 know as soon  as possible if 
 you are interested.. https://eruuf.org/calendar/calendar-view/event/811-se
 rvice-saturday.html
DTSTART:20150207T153000Z
DTEND:20150212T200000Z
LOCATION:Fellowship Hall   ()
SUMMARY:Service Saturday
URL:https://eruuf.org/calendar/calendar-view/event/811-service-saturday.htm
 l
END:VEVENT
END:VCALENDAR
