BEGIN:VCALENDAR
VERSION:2.0
PRODID:-//https://eruuf.org///NONSGML kigkonsult.se iCalcreator 2.10.15//
METHOD:PUBLISH
BEGIN:VEVENT
UID:20260423T130944UTC-0448zP5Hka@https://eruuf.org/
DTSTAMP:20260423T130944Z
DESCRIPTION:February 17\, 2020: 6:30 - 8:00 pm: Get Out the Vote Phonebank.
  Join us to call voters to make their plans to vote in the Primary! Bring 
 your charged cell phone\, your headphones\, and your laptop. We'll be call
 ing to help voters get to early voting. Questions? Contact Emily. https://
 eruuf.org/calendar/calendar-view/event/8115-2020-election-primary-phone-ba
 nk.html
DTSTART:20200217T230035Z
DTEND:20200218T013000Z
LOCATION:Fellowship Hall   ()
SUMMARY:2020 Election Primary Phone Bank 
URL:https://eruuf.org/calendar/calendar-view/event/8115-2020-election-prima
 ry-phone-bank.html
END:VEVENT
END:VCALENDAR
