BEGIN:VCALENDAR
VERSION:2.0
PRODID:-//https://eruuf.org///NONSGML kigkonsult.se iCalcreator 2.10.15//
METHOD:PUBLISH
BEGIN:VEVENT
UID:20260422T234332UTC-5720cVx5gG@https://eruuf.org/
DTSTAMP:20260422T234332Z
DESCRIPTION:\nMarch 2\, 2020\, 6:30 - 8:00 pm: Get Out the Vote Phonebank. 
 Join us to call voters to make their plans to vote in the Primary on March
  3rd! Bring your charged cell phone\, your headphones\, and your laptop. W
 e'll be calling to help voters get to the Primary. \n\nQuestions? Contact 
 Emily. https://eruuf.org/calendar/calendar-view/event/8116-2020-election-p
 rimary-phone-bank.html
DTSTART:20200302T230035Z
DTEND:20200303T013000Z
LOCATION:Fellowship Hall   ()
SUMMARY:2020 Election Primary Phone Bank 
URL:https://eruuf.org/calendar/calendar-view/event/8116-2020-election-prima
 ry-phone-bank.html
END:VEVENT
END:VCALENDAR
