BEGIN:VCALENDAR
VERSION:2.0
PRODID:-//https://eruuf.org///NONSGML kigkonsult.se iCalcreator 2.10.15//
METHOD:PUBLISH
BEGIN:VEVENT
UID:20260424T011647UTC-0550vdO3Uu@https://eruuf.org/
DTSTAMP:20260424T011647Z
DESCRIPTION:Come and enjoy your fellow ERUUFians and friends at Cafe ERUUF!
  The potluck dessert/snack social time starts at 6:30 and performers start
  at 7:00 pm. We will hear classical guitar\, oboe and guitar jazz and clas
 sical duos\, original poetry\, singing\, and a sing-a-long that will get y
 ou laughing. We could use a couple more performers\, some helpers\, and lo
 ts of people for the audience! Please sign up here to help with set up or 
 clean up\, making coffee\, or performing at the Cafe. Questions? Contact J
 ennifer Taylor\, 919-402-7622.  https://eruuf.org/calendar/calendar-view/e
 vent/8122-cafe-eruuf.html
DTSTART:20200201T233000Z
DTEND:20200202T023000Z
LOCATION:Fellowship Hall   ()
SUMMARY:Cafe ERUUF
URL:https://eruuf.org/calendar/calendar-view/event/8122-cafe-eruuf.html
END:VEVENT
END:VCALENDAR
