BEGIN:VCALENDAR
VERSION:2.0
PRODID:-//https://eruuf.org///NONSGML kigkonsult.se iCalcreator 2.10.15//
METHOD:PUBLISH
BEGIN:VEVENT
UID:20260424T060036UTC-7069G8nfBf@https://eruuf.org/
DTSTAMP:20260424T060036Z
DESCRIPTION:Pipeline Fighters documents the creative and determined resista
 nce to this dangerous and deadly threat to our land\, water\, climate and 
 health\, focusing on the two fracked gas pipelines in our backyard.For mor
 e information contact Betsy Bickel\, betsybickel@gmail.com https://eruuf.o
 rg/calendar/calendar-view/event/8126-earth-justice-movie-plant-based-potlu
 ck.html
DTSTART:20200127T233000Z
DTEND:20200128T023000Z
LOCATION:Fellowship Hall   ()
SUMMARY:Earth Justice Movie & Plant-Based Potluck
URL:https://eruuf.org/calendar/calendar-view/event/8126-earth-justice-movie
 -plant-based-potluck.html
END:VEVENT
END:VCALENDAR
