BEGIN:VCALENDAR
VERSION:2.0
PRODID:-//https://eruuf.org///NONSGML kigkonsult.se iCalcreator 2.10.15//
METHOD:PUBLISH
BEGIN:VEVENT
UID:20260421T104948UTC-7052FB9kSr@https://eruuf.org/
DTSTAMP:20260421T104948Z
DESCRIPTION:Sorting and organizing clothes for the Urban Ministries Clothes
  Closet as part of the 30 Days of Love campaign. https://eruuf.org/calenda
 r/calendar-view/event/813-service-saturday.html
DTSTART:20150131T150000Z
DTEND:20150131T170000Z
LOCATION:Urban Ministries (410 Liberty Street\, Durham\, NC 27701\, USA)
SUMMARY:Service Saturday
URL:https://eruuf.org/calendar/calendar-view/event/813-service-saturday.htm
 l
END:VEVENT
END:VCALENDAR
