BEGIN:VCALENDAR
VERSION:2.0
PRODID:-//https://eruuf.org///NONSGML kigkonsult.se iCalcreator 2.10.15//
METHOD:PUBLISH
BEGIN:VEVENT
UID:20260424T184244UTC-8701jnljVN@https://eruuf.org/
DTSTAMP:20260424T184244Z
DESCRIPTION:A Legislative Update from the UU Justice Ministry of NC'After s
 logging through one of the longest and most contentious legislative sessio
 ns in recent history last year\, North Carolina's General Assembly (which 
 normally wouldn't return to Raleigh until May) will reconvene at noon next
  Tuesday\, January 14\, 2020. There's more than a little bit of truth to w
 hat's sometimes been said about our state legislature—that justice and dem
 ocracy are not safe as long as the General Assembly is in session. And tha
 t's why it's important for UUs and other secular and religious progressive
 s to let our lawmakers hear our voices and feel our presence while they're
  in Raleigh to 'do the people's business.'  What can we do?Attend the HKon
 J Moral March on Raleigh\, Sat.\, Feb. 8. Meet up between 8:30 - 9:00 am a
 t the corner of South St. and Wilmington St. and then gather after the mar
 ch (1:30 - 2:30 pm) for lunch\, worship\, singing and networking with othe
 r Unitarian Universalists and friends. Learn more and register for the pos
 t-march gathering here. https://eruuf.org/calendar/calendar-view/event/813
 3-hkonj-moral-march-and-people-s-assembly.html
DTSTART:20200208T133000Z
DTEND:20200208T193000Z
LOCATION:Halifax Mall\, Raleigh NC ()
SUMMARY:HKonJ Moral March and People's Assembly
URL:https://eruuf.org/calendar/calendar-view/event/8133-hkonj-moral-march-a
 nd-people-s-assembly.html
END:VEVENT
END:VCALENDAR
