BEGIN:VCALENDAR
VERSION:2.0
PRODID:-//https://eruuf.org///NONSGML kigkonsult.se iCalcreator 2.10.15//
METHOD:PUBLISH
BEGIN:VEVENT
UID:20260420T140539UTC-5198rPpj3p@https://eruuf.org/
DTSTAMP:20260420T140539Z
DESCRIPTION: ERUUF retirees and seniors gather for companionship and good c
 onversation\, each meeting being directed by one of the members. Bring a s
 ack lunch.This event occures on the 2nd and 4th Wednesday of each month.  
 https://eruuf.org/calendar/calendar-view/event/814-eruuf-seniors.html
DTSTART:20150128T163000Z
DTEND:20150128T180000Z
LOCATION:Room 1 - CARE Building ()
SUMMARY:ERUUF Seniors
URL:https://eruuf.org/calendar/calendar-view/event/814-eruuf-seniors.html
END:VEVENT
END:VCALENDAR
