BEGIN:VCALENDAR
VERSION:2.0
PRODID:-//https://eruuf.org///NONSGML kigkonsult.se iCalcreator 2.10.15//
METHOD:PUBLISH
BEGIN:VEVENT
UID:20260422T153051UTC-9166V9x0tR@https://eruuf.org/
DTSTAMP:20260422T153051Z
DESCRIPTION:If you are interested in volunteering for Habitat\, please cont
 act  Merritt Chesson ahead of time\, as there is online registration requi
 red and 5 slots reserved for those volunteers able to commit. https://eruu
 f.org/calendar/calendar-view/event/815-service-saturday.html
DTSTART:20150124T133000Z
DTEND:20150124T163000Z
LOCATION:Habitat for Humanity (1211/1213 Spruce St\,. Durham\, NC)
SUMMARY:Service Saturday
URL:https://eruuf.org/calendar/calendar-view/event/815-service-saturday.htm
 l
END:VEVENT
END:VCALENDAR
