BEGIN:VCALENDAR
VERSION:2.0
PRODID:-//https://eruuf.org///NONSGML kigkonsult.se iCalcreator 2.10.15//
METHOD:PUBLISH
BEGIN:VEVENT
UID:20260422T013102UTC-474322UfVF@https://eruuf.org/
DTSTAMP:20260422T013102Z
DESCRIPTION:In March\, the Multicultural Team is hosting a series of Discus
 sion Groups for this year’s UUA Common Read: An Indigenous Peoples’ Histor
 y of the United States by Roxanne Dunbar-Ortiz. Participants can choose be
 tween a single meeting or a series of three meetings. Most meetings are 90
  minutes unless otherwise noted. Please bring a brown bag lunch for the me
 eting on Wednesday\, March 11\, which will be 2 hours long. Click the 'Reg
 ister' button below to sign up for a discussion group. \nThe books are now
  available in the office for $15\; (pay by check or cash--exact change ple
 ase).\nWe are limiting each group to 10 participants and 2 facilitators to
  ensure that everyone has a chance to speak. If you are not able to regist
 er because 1) you're unable to make the day/times offered or 2) your choic
 e was filled\, please email Vincent Licenziato\, Licenziato@aol.com\, to b
 e placed on a waiting list.\nIf you need assistance with the cost of the b
 ook or have any other questions\, please contact Vincent.  \nRegister\n  h
 ttps://eruuf.org/calendar/calendar-view/event/8175-uua-common-read-discuss
 ion-series.html
DTSTART:20200305T000000Z
DTEND:20200305T013000Z
LOCATION:Room 7 - CARE Building ()
SUMMARY:UUA Common Read Discussion (Series)
URL:https://eruuf.org/calendar/calendar-view/event/8175-uua-common-read-dis
 cussion-series.html
END:VEVENT
END:VCALENDAR
