BEGIN:VCALENDAR
VERSION:2.0
PRODID:-//https://eruuf.org///NONSGML kigkonsult.se iCalcreator 2.10.15//
METHOD:PUBLISH
BEGIN:VEVENT
UID:20260425T145057UTC-4502trPkBV@https://eruuf.org/
DTSTAMP:20260425T145057Z
DESCRIPTION:Help us check the Pulse of ERUUF! The ERUUF Board of Trustees w
 ould like feedback about life at ERUUF. The Pulse Survey takes about 10 mi
 nutes to complete. It is open from Feb. 1-29. This year\, the Pulse Survey
  includes some focused questions about ERUUF's strategic plan as well as a
  few items about our Music Program. Options:\n1.Click Survey link.\n2. Com
 e to Coffee Hour in February to chat with the Committee on the Evaluation 
 of Ministry who will arrange for you to complete the survey on the spot or
  provide a paper survey.\nQuestions? Contact Julie Edmunds. https://eruuf.
 org/calendar/calendar-view/event/8180-pulse-survey-2020.html
DTSTART:20200202T050000Z
DTEND:20200229T050000Z
LOCATION:ERUUF Campus   (4907 Garrett Rd\, Durham\, NC 27707    )
SUMMARY:Pulse Survey 2020
URL:https://eruuf.org/calendar/calendar-view/event/8180-pulse-survey-2020.h
 tml
END:VEVENT
END:VCALENDAR
