BEGIN:VCALENDAR
VERSION:2.0
PRODID:-//https://eruuf.org///NONSGML kigkonsult.se iCalcreator 2.10.15//
METHOD:PUBLISH
BEGIN:VEVENT
UID:20260419T200211UTC-5763AAV9HT@https://eruuf.org/
DTSTAMP:20260419T200211Z
DESCRIPTION:Coming of Age for Adults  is a 6-session series designed for ad
 ults of all ages to explore their spiritual journey and religious identity
 . This course is designed for those who have attended some or all of the F
 inding Yourself at ERUUF offerings. Join us on Sundays between services at
  10:10 am in the Commons Room. \nFebruary 16: Coming of Age for Adults - F
 acilitated by Victoria Zula and John Rawls\n February 23: Stages of Faith 
 - Facilitated by John Rawls\nMarch 1: Your Spiritual Journey - Facilitated
  by John Rawls and Brent Bissette\nMarch 8: Statements of Faith - Facilita
 ted by Beth Harvat and Victoria Zula\nMarch 15: Developing Your Statement 
 of Faith - Facilitated by Beth Harvat\nMarch 22: Sharing Your Statement of
  Faith - Facilitated by Brent Bissette and John RawlsRegister\nFor more in
 formation about any of our Core Curriculum or other adult program classes\
 , contact adultprograms@eruuf.org https://eruuf.org/calendar/calendar-view
 /event/8187-coming-of-age-for-adults.html
DTSTART:20200223T151000Z
DTEND:20200223T160500Z
LOCATION:Commons Room   (4907 Garrett Rd\, Durham\, NC 27707  )
SUMMARY:Coming of Age for Adults
URL:https://eruuf.org/calendar/calendar-view/event/8187-coming-of-age-for-a
 dults.html
END:VEVENT
END:VCALENDAR
