BEGIN:VCALENDAR
VERSION:2.0
PRODID:-//https://eruuf.org///NONSGML kigkonsult.se iCalcreator 2.10.15//
METHOD:PUBLISH
BEGIN:VEVENT
UID:20260425T132446UTC-98257giVNg@https://eruuf.org/
DTSTAMP:20260425T132446Z
DESCRIPTION:Foundation Grant Applications are due on February 10\, 2020. Th
 e Eno River Fellowship Foundation Board seeks to fund creative proposals d
 escribing projects that align with one or more of ERUUF’s Strategic Vision
  Goals. This year\, the Foundation encourages collaborative proposals that
  involve two or more ERUUF ministry teams or ERUUF teams working in partne
 rship with community groups beyond our walls.  For more information and to
  apply\, access the application here. https://eruuf.org/calendar/calendar-
 view/event/8188-deadline-foundation-grant-applications.html
DTSTART:20200210T050000Z
DTEND:20200211T170000Z
LOCATION:ERUUF Campus   (4907 Garrett Rd\, Durham\, NC 27707    )
SUMMARY:Deadline: Foundation Grant Applications 
URL:https://eruuf.org/calendar/calendar-view/event/8188-deadline-foundation
 -grant-applications.html
END:VEVENT
END:VCALENDAR
