BEGIN:VCALENDAR
VERSION:2.0
PRODID:-//https://eruuf.org///NONSGML kigkonsult.se iCalcreator 2.10.15//
METHOD:PUBLISH
BEGIN:VEVENT
UID:20260425T122730UTC-9097bj0vRh@https://eruuf.org/
DTSTAMP:20260425T122730Z
DESCRIPTION:Contact: Robyn Stout at pinecone42@nc.rr.com  https://eruuf.org
 /calendar/calendar-view/event/819-board-of-trustees.html
DTSTART:20150120T233000Z
DTEND:20150121T023000Z
LOCATION:Commons Room   (4907 Garrett Rd\, Durham\, NC 27707  )
SUMMARY:Board of Trustees
URL:https://eruuf.org/calendar/calendar-view/event/819-board-of-trustees.ht
 ml
END:VEVENT
END:VCALENDAR
