BEGIN:VCALENDAR
VERSION:2.0
PRODID:-//https://eruuf.org///NONSGML kigkonsult.se iCalcreator 2.10.15//
METHOD:PUBLISH
BEGIN:VEVENT
UID:20260425T150503UTC-5670KujumA@https://eruuf.org/
DTSTAMP:20260425T150503Z
DESCRIPTION:***This event has been postponed due to the COVID-19 Pandemic. 
 Please reach out to  Jonathan Sheline for more information.***\nMeanwhile\
 , members of Earth Justice would like to recommend the following documenta
 ries and educational materials: \nDocumentaries:Forks Over KnivesWhat the 
 Health?CowspiracyIce on Fire [Excellent recent film by Leonardo DiCaprio]
 \nOther educational materials to support plant-based eating (click here to
  access):\nThe Food Revolution Network’s Need To Grow Impact Kit* includes
 : \n\nNeed to Grow\, full length film\nSeries of video classes\, including
 : 'Nutrient Density: How to GROW Healing Foods' with Erik Cutter\, 'Starti
 ng a Seed Library' with Alicia Serratos\, 'The Most Important Steps to You
 r First Garden' with David King\, 'The Magic of Soils Simplified\, Parts 1
  & 2' with Toby Hemenway\, 'Introduction to Permaculture' with Larry Santo
 yo\, 'How to Use Biochar' with Michael Smith\, 'Eliminating Pesticides fro
 m Schools and Communities' with Mackenzie Feldman\, plus 8 more! \n\n  htt
 ps://eruuf.org/calendar/calendar-view/event/8193-plant-based-eating-week-p
 ostponed.html
DTSTART:20200419T040000Z
DTEND:20200426T040000Z
LOCATION:ERUUF Campus   (4907 Garrett Rd\, Durham\, NC 27707    )
SUMMARY:Plant-Based Eating Week (POSTPONED)
URL:https://eruuf.org/calendar/calendar-view/event/8193-plant-based-eating-
 week-postponed.html
END:VEVENT
END:VCALENDAR
